BEGIN:VCALENDAR
VERSION:2.0
PRODID:-//ChamberMaster//Event Calendar 2.0//EN
METHOD:PUBLISH
X-PUBLISHED-TTL:P3D
REFRESH-INTERVAL:P3D
CALSCALE:GREGORIAN
BEGIN:VEVENT
DTSTART:20260503T190000Z
DTEND:20260503T200000Z
X-MICROSOFT-CDO-ALLDAYEVENT:FALSE
SUMMARY:Blue Ridge Chorale 2026 Spring Concert at CUMC
DESCRIPTION:Join the Blue Ridge Chorale for an uplifting celebration of choral music this spring. Our singers are excited to share a program filled with rich harmonies\, familiar favorites\, and new works that highlight the joy of singing together.\n\nPerformance Dates & Locations\n\n\n	Friday\, May 1 at 7:30 PM Lake of the Woods Church\n	Sunday\, May 3 at 3:00 PM Culpeper United Methodist Church\n\n\nArtistic Team\n\nMelanie Bolas\, Director\n\nKathy Pellegreen\, Assistant Director\n\nBrittany Bache\, Accompanist\n\nThe Chorale is a community-supported nonprofit\, and your donations help keep our music thriving. Contributions are greatly appreciated.\n\nLearn more at www.BRCSINGS.com
X-ALT-DESC;FMTTYPE=text/html:<p>Join the Blue Ridge Chorale for an uplifting celebration of choral music this spring. Our singers are excited to share a program filled with rich harmonies\, familiar favorites\, and new works that highlight the joy of singing together.</p>\n\n<p><strong>Performance Dates &amp\; Locations</strong></p>\n\n<ul>\n	<li><strong>Friday\, May 1 at 7:30 PM</strong> Lake of the Woods Church</li>\n	<li><strong>Sunday\, May 3 at 3:00 PM</strong> Culpeper United Methodist Church</li>\n</ul>\n\n<p><strong>Artistic Team</strong><br />\nMelanie Bolas\, Director<br />\nKathy Pellegreen\, Assistant Director<br />\nBrittany Bache\, Accompanist</p>\n\n<p>The Chorale is a community-supported nonprofit\, and your donations help keep our music thriving. Contributions are greatly appreciated.</p>\n\n<p>Learn more at <strong>www.BRCSINGS.com</strong></p>\n
LOCATION:Culpeper United Methodist Church 1233 Oaklawn Dr\, Culpeper\, VA 22701
UID:e.431.66249
SEQUENCE:3
DTSTAMP:20260423T051840Z
URL:https://members.culpeperchamber.com/events/details/blue-ridge-chorale-2026-spring-concert-at-cumc-66249
END:VEVENT

END:VCALENDAR
