BEGIN:VCALENDAR
VERSION:2.0
PRODID:-//ChamberMaster//Event Calendar 2.0//EN
METHOD:PUBLISH
X-PUBLISHED-TTL:P3D
REFRESH-INTERVAL:P3D
CALSCALE:GREGORIAN
BEGIN:VEVENT
DTSTART:20260424T220000Z
DTEND:20260425T000000Z
X-MICROSOFT-CDO-ALLDAYEVENT:FALSE
SUMMARY:Book Club @ The Vineyard
DESCRIPTION:Book Club @ The Vineyard - The discussion begins at 6 pm\, and we are reading A Death in Vienna by Frank Tallis. The Vineyard opens at noon on Fridays\, so pop in early for a glass of wine and a snack to enjoy during the conversation.
X-ALT-DESC;FMTTYPE=text/html:<strong>Book Club @ The Vineyard</strong> - The discussion begins at 6 pm\, and we are reading <em>A Death in Vienna</em>&nbsp\;by Frank Tallis. The Vineyard opens at noon on Fridays\, so pop in early for a glass of wine and a snack to enjoy during the conversation.
LOCATION:Revalation Vineyards 2710 Hebron Valley Road\, Madison\, VA 22727
UID:e.431.65798
SEQUENCE:3
DTSTAMP:20260424T083709Z
URL:https://members.culpeperchamber.com/events/details/book-club-the-vineyard-04-24-2026-65798
END:VEVENT

END:VCALENDAR
