BEGIN:VCALENDAR
VERSION:2.0
PRODID:-//ChamberMaster//Event Calendar 2.0//EN
METHOD:PUBLISH
X-PUBLISHED-TTL:P3D
REFRESH-INTERVAL:P3D
CALSCALE:GREGORIAN
BEGIN:VEVENT
DTSTART:20260522T220000Z
DTEND:20260523T000000Z
X-MICROSOFT-CDO-ALLDAYEVENT:FALSE
SUMMARY:Book Club @ The Vineyard
DESCRIPTION:Book Club @ The Vineyard - The discussion begins at 6 pm\, and we are reading The Lincoln Highway by Amor Towles. The Vineyard opens at noon on Fridays\, so bring a friend and pop in early for a glass of wine and a snack to enjoy while you chat.
X-ALT-DESC;FMTTYPE=text/html:<strong>Book Club @ The Vineyard</strong> - The discussion begins at 6 pm\, and we are reading <em>The Lincoln Highway</em>&nbsp\;by Amor Towles. The Vineyard opens at noon on Fridays\, so bring a friend and pop in early for a glass of wine and a snack to enjoy while you chat.
LOCATION:Revalation Vineyards 2710 Hebron Valley Road\, Madison\, VA 22727
UID:e.431.65799
SEQUENCE:3
DTSTAMP:20260423T082524Z
URL:https://members.culpeperchamber.com/events/details/book-club-the-vineyard-05-22-2026-65799
END:VEVENT

END:VCALENDAR
