BEGIN:VCALENDAR
VERSION:2.0
PRODID:-//ChamberMaster//Event Calendar 2.0//EN
METHOD:PUBLISH
X-PUBLISHED-TTL:P3D
REFRESH-INTERVAL:P3D
CALSCALE:GREGORIAN
BEGIN:VEVENT
DTSTART:20181015T223000Z
DTEND:20181016T000000Z
X-MICROSOFT-CDO-ALLDAYEVENT:FALSE
SUMMARY:Congressional District 7 Debate
DESCRIPTION:The Culpeper Chamber of Commerce hosts the first debate\n\netween the candidates for 7th District\, Abigail Spanberger (challenger) and Congressman David Brat (incumbent). This debate is moderated\n\nby Jonathan Krawchuk\, Station Manager of Culpeper Media Network.\n\nThis event is Free and Open to the Public with a ticket. Tickets available October 1. Limited seating available.\n***POSTERS AND SIGNAGE WILL NOT BE ALLOWED INTO THE VENUE****\n\n****CAMPAIGN SIGNAGE NOT ALLOWED ON THE PREMISES******
X-ALT-DESC;FMTTYPE=text/html:<div style="padding:0px\;width:560px\;box-sizing:border-box\;display:inline-block\;overflow:hidden\;vertical-align:top\;letter-spacing:0.5px\;font-size:15px\;line-height:21px\;color:rgb(111\, 114\, 135)\;font-family:Neue Plak\, -apple-system\, BlinkMacSystemFont\, Roboto\, Helvetica Neue\, Helvetica\, Tahoma\, Arial\, sans-serif\;">\n<div style="margin:0px 0px 30px\;padding:0px 0px 30px\;font-size:0px\;letter-spacing:0px\;">\n<div style="padding:0px 15px\;width:560px\;box-sizing:border-box\;display:inline-block\;overflow:hidden\;vertical-align:top\;letter-spacing:0.5px\;font-size:15px\;line-height:21px\;">\n<div data-xd-wired="read-more" dorsal-guid="769505c6-0f3d-ccc6-a56d-2beeb0f74682" style="padding:0px\;">\n<div style="padding:0px\;overflow:hidden\;position:relative\;word-wrap:break-word\;">\n<div data-automation="listing-event-description" style="margin:15px 0px 0px\;padding:0px\;"><span style="font-size:14px\;">The Culpeper Chamber of Commerce hosts the first debate<br />\netween the&nbsp\;<span style="padding-top:0px\;">candidates for 7th District\,&nbsp\;</span>Abigail Spanberger (challenger) and Congressman David Brat (incumbent). This debate is moderated<br />\nby Jonathan Krawchuk\, Station Manager of Culpeper Media Network.<br />\nThis event is Free and Open to the Public with a ticket. Tickets available October 1. Limited seating available.</span>\n<h2 style="padding:10px 0px 0px\;color:rgb(30\, 10\, 60)\;font-size:17px\;line-height:21px\;"><span style="font-size:14px\;"><span style="padding-top:0px\;">***POSTERS AND SIGNAGE WILL NOT BE ALLOWED INTO THE VENUE****</span></span></h2>\n\n<h2 style="padding:10px 0px 0px\;color:rgb(30\, 10\, 60)\;font-size:17px\;line-height:21px\;"><span style="font-size:14px\;"><span style="padding-top:0px\;">****CAMPAIGN SIGNAGE NOT ALLOWED ON THE PREMISES******</span></span></h2>\n</div>\n</div>\n</div>\n</div>\n</div>\n</div>\n
LOCATION:Germanna Community College Daniel Technology Center 18121 Technology Drive Culpeper\, VA 22701
UID:e.431.27678
SEQUENCE:3
DTSTAMP:20260423T214821Z
URL:https://members.culpeperchamber.com/events/details/congressional-district-7-debate-27678
END:VEVENT

END:VCALENDAR
