BEGIN:VCALENDAR
VERSION:2.0
PRODID:-//ChamberMaster//Event Calendar 2.0//EN
METHOD:PUBLISH
X-PUBLISHED-TTL:P3D
REFRESH-INTERVAL:P3D
CALSCALE:GREGORIAN
BEGIN:VEVENT
DTSTART:20211023T140000Z
DTEND:20211023T180000Z
X-MICROSOFT-CDO-ALLDAYEVENT:FALSE
SUMMARY:Open House
DESCRIPTION:Mark your calendars for this fun day!\n\n\n\nReva Volunteer Fire & Rescue will be holding an open house at the fire department on October 23rd\, from 10am - 2pm with a special appearance by AirCare 6 from 12noon-2pm.  Also\, the Culpeper Sheriff's Department will be there with a special K-9 demo\, cruiser tours and a SWAT display.  Rusty's towing will also be there with display trucks and a food vendor will be on site.  There will be tours\, games and activities.\n\n\n\nBring the whole family and come out and show your support while having a great time!
X-ALT-DESC;FMTTYPE=text/html:<span style="font-size:20px">Mark your calendars for this fun day!<br />\n<br />\nReva Volunteer Fire &amp\; Rescue will be holding an open house at the fire department on October 23rd\, from 10am - 2pm with a special appearance by AirCare 6 from 12noon-2pm.&nbsp\; Also\, the Culpeper Sheriff&#39\;s Department will be there with a special K-9 demo\, cruiser tours and a SWAT display.&nbsp\; Rusty&#39\;s towing will also be there with display trucks and a food vendor will be on site.&nbsp\; There will be tours\, games and activities.<br />\n<br />\nBring the whole family and come out and show your support while having a great time!&nbsp\;</span><br />\n<br />\n&nbsp\;
LOCATION:18230 Birmingham Road Culpeper\, VA 22701-6902.
UID:e.431.40621
SEQUENCE:3
DTSTAMP:20260420T135944Z
URL:https://members.culpeperchamber.com/events/details/drive-through-dinners-10-23-2021-40621
END:VEVENT

END:VCALENDAR
