BEGIN:VCALENDAR
VERSION:2.0
PRODID:-//ChamberMaster//Event Calendar 2.0//EN
METHOD:PUBLISH
X-PUBLISHED-TTL:P3D
REFRESH-INTERVAL:P3D
CALSCALE:GREGORIAN
BEGIN:VEVENT
DTSTART:20260430T200000Z
DTEND:20260430T220000Z
X-MICROSOFT-CDO-ALLDAYEVENT:FALSE
SUMMARY:Germanna Community College Adjunct Job Fair
DESCRIPTION:Germanna Community College Adjunct Job Fair\n\nHiring for in-person and online positions.
X-ALT-DESC;FMTTYPE=text/html:<br />\n<span style="font-size:20px\;">Germanna Community College Adjunct Job Fair<br />\nHiring for in-person and online positions.&nbsp\;</span>
LOCATION:Daniel Technology Center 18121 Technology Drive Culpeper\, Virginia
UID:e.431.66246
SEQUENCE:3
DTSTAMP:20260422T210218Z
URL:https://members.culpeperchamber.com/events/details/germanna-community-college-adjunct-job-fair-66246
END:VEVENT

END:VCALENDAR
