BEGIN:VCALENDAR
VERSION:2.0
PRODID:-//ChamberMaster//Event Calendar 2.0//EN
METHOD:PUBLISH
X-PUBLISHED-TTL:P3D
REFRESH-INTERVAL:P3D
CALSCALE:GREGORIAN
BEGIN:VEVENT
DTSTART:20220806T140000Z
DTEND:20220806T160000Z
X-MICROSOFT-CDO-ALLDAYEVENT:FALSE
SUMMARY:Lavender Wreath Making
DESCRIPTION:Seek Lavender Living Experience - craft your own lavender wreath at Culpeper's lavender farm!\n\n\n\n\n\nRegistration\, per person\, includes outdoor time with Seek Lavender's owner & operator\, Mary Seek\, in Culpeper's peaceful oasis crafting your own 8" lavender wreath. We will chat about the natural magik herbs bring into our lives...while crafting and sipping lavender lemonade and tasting a hand-made\, farm-made lavender treat.  Feel free to bring your picnic lunch and extend your stay at lovely Seek Lavender!
X-ALT-DESC;FMTTYPE=text/html:<br />\n<span style="font-size:18px">Seek Lavender Living Experience - craft your own lavender wreath at Culpeper&#39\;s lavender farm!<br />\n<br />\n<br />\nRegistration\, per person\, includes outdoor time with Seek Lavender&#39\;s owner &amp\; operator\, Mary Seek\, in Culpeper&#39\;s peaceful oasis crafting your own 8&quot\; lavender wreath. We will chat about the natural magik herbs bring into our lives...while crafting and sipping lavender lemonade and tasting a hand-made\, farm-made lavender treat. &nbsp\;Feel free to bring your picnic lunch and extend your stay at lovely Seek Lavender!</span><br />\n<br />\n<br />\n<br />\n&nbsp\;
LOCATION:15528 Bradford Rd Culpeper\, VA 22701
UID:e.431.42513
SEQUENCE:3
DTSTAMP:20260420T001604Z
URL:https://members.culpeperchamber.com/events/details/lavender-wreath-making-08-06-2022-42513
END:VEVENT

END:VCALENDAR
