BEGIN:VCALENDAR
VERSION:2.0
PRODID:-//ChamberMaster//Event Calendar 2.0//EN
METHOD:PUBLISH
X-PUBLISHED-TTL:P3D
REFRESH-INTERVAL:P3D
CALSCALE:GREGORIAN
BEGIN:VEVENT
DTSTART:20260608T170000Z
DTEND:20260612T190000Z
X-MICROSOFT-CDO-ALLDAYEVENT:FALSE
SUMMARY:Youth Pickleball Camp
DESCRIPTION:INTRO TO PICKLEBALL with certified instructor George Shackelford\n\nJune 8   12\, 2026\, 1:00 -3:00 pm\n\nAges 7-12\n\nCamp fee: $120\n\nIn this introductory camp\, kids will learn the basics of the fastest growing sport in the country! Sportsmanship will be emphasized during games\, swing practice\, fun drills & scoring fundamentals. The goal is to have young players develop skills and confidence along with an interest in the game!\n\nPaddles will be provided. Participants are welcome to bring their own paddle.\n\nCamp manager George Shackelford is certified by the Professional Pickleball Registry (PPR)\, official education & certification partner of USA Pickleball. George discovered pickleball after moving from Houston\, Texas to Culpeper in 2017. After developing his own game\, he began coaching friends and helping them improve their games. Along with three other local players George co-founded the Culpeper Pickleball Club and helped advance pickleball in the Culpeper area. He is an experienced tournament player and enjoys helping his students to prepare for tournaments. As a PPR-certified coach\, George enjoys working with players of every level.
X-ALT-DESC;FMTTYPE=text/html:<p><strong>INTRO TO PICKLEBALL&nbsp\;</strong><strong>with certified instructor George Shackelford</strong></p>\n\n<p><strong>June 8 &ndash\; 12\, 2026\, 1:00 -3:00 pm</strong></p>\n\n<p><strong>Ages 7-12</strong></p>\n\n<p><strong>Camp fee: $120</strong></p>\n\n<p>In this introductory camp\, kids will learn the basics of the fastest growing sport in the country! Sportsmanship will be emphasized during games\, swing practice\, fun drills &amp\; scoring fundamentals. The goal is to have young players develop skills and confidence along with an interest in the game!</p>\n\n<p>Paddles will be provided. Participants are welcome to bring their own paddle.</p>\n\n<p>Camp manager George Shackelford is certified by the Professional Pickleball Registry (PPR)\, official education &amp\; certification partner of USA Pickleball.&nbsp\;George discovered pickleball after moving from Houston\, Texas to Culpeper in 2017. After developing his own game\, he began coaching friends and helping them improve their games. Along with three other local players George co-founded the Culpeper Pickleball Club and helped advance pickleball in the Culpeper area. He is an experienced tournament player and enjoys helping his students to prepare for tournaments. As a PPR-certified coach\, George enjoys working with players of every level.&nbsp\;</p>\n
LOCATION:PATH Recreation & Fitness Center 19002 Crossroad Parkway Culpeper\, VA 22701
UID:e.431.66251
SEQUENCE:3
DTSTAMP:20260423T222331Z
URL:https://members.culpeperchamber.com/events/details/youth-pickleball-camp-66251
END:VEVENT

END:VCALENDAR
